BEGIN:VCALENDAR
VERSION:2.0
PRODID:SchoolNow
CALSCALE:GREGORIAN
BEGIN:VEVENT
UID:c2fd4c8c-fe8b-11ee-8553-0e32fb3cf867
DTSTAMP:20240419T203112Z
SUMMARY:Story Time - May 13th
URL;VALUE=URI:https://www.wildernesslakecdd.org/calendar/5818909/story-time
 -may-13th
DTSTART:20240513T140000Z
DTEND:20240513T150000Z
END:VEVENT
END:VCALENDAR
