BEGIN:VCALENDAR
VERSION:2.0
PRODID:SchoolNow
CALSCALE:GREGORIAN
BEGIN:VEVENT
UID:9c12bfc6-fe8b-11ee-946e-0a58a9feac02
DTSTAMP:20240419T203006Z
SUMMARY:Story Time - May 6th
URL;VALUE=URI:https://www.wildernesslakecdd.org/calendar/5818908/story-time
 -may-6th
DTSTART:20240506T140000Z
DTEND:20240506T150000Z
END:VEVENT
END:VCALENDAR
