BEGIN:VCALENDAR
VERSION:2.0
PRODID:SchoolNow
CALSCALE:GREGORIAN
BEGIN:VEVENT
UID:f9f2ee8e-f68b-11ee-829d-0a58a9feac02
DTSTAMP:20240517T171653Z
SUMMARY:Summer Reading Challenge - Jun 20th
URL;VALUE=URI:https://www.wildernesslakecdd.org/calendar/5745166/summer-rea
 ding-challenge
DTSTART:20240620T180000Z
DTEND:20240620T200000Z
END:VEVENT
END:VCALENDAR
