BEGIN:VCALENDAR
VERSION:2.0
PRODID:SchoolNow
CALSCALE:GREGORIAN
BEGIN:VEVENT
UID:e70ab342-f2b7-11ee-9b92-0affeb46778b
DTSTAMP:20240516T202915Z
SUMMARY:Trivia Night (Adult) - May 23rd
URL;VALUE=URI:https://www.wildernesslakecdd.org/calendar/5708657/trivia-nig
 ht-adult-may-23rd
DTSTART:20240523T223000Z
DTEND:20240524T003000Z
ATTACH;FILENAME=Wilderness Lake Preserve Lodge Invites You To (2).png;FMTTY
 PE=image/png:https://campussuite-storage.s3.amazonaws.com/prod/1558874/21c
 aec5e-ea98-11e9-8581-0a20d2c7fac4/2788872/7e06cbde-13c2-11ef-bcf5-0a58a9fe
 ac02/file/Wilderness Lake Preserve Lodge Invites You To (2).png
END:VEVENT
END:VCALENDAR
