BEGIN:VCALENDAR
VERSION:2.0
PRODID:SchoolNow
CALSCALE:GREGORIAN
BEGIN:VEVENT
UID:90b0135a-f129-11ee-8efe-0a58a9feac02
DTSTAMP:20240402T194625Z
SUMMARY:Lighting of the Menorah - Dec. 26th
URL;VALUE=URI:https://www.wildernesslakecdd.org/calendar/5692114/lighting-o
 f-the-menorah-dec-26th
DTSTART:20241227T000000Z
DTEND:20241227T010000Z
END:VEVENT
END:VCALENDAR
