BEGIN:VCALENDAR
VERSION:2.0
PRODID:SchoolNow
CALSCALE:GREGORIAN
BEGIN:VEVENT
UID:56996b76-f129-11ee-a60d-0a58a9feac02
DTSTAMP:20240402T194354Z
SUMMARY:Breakfast with Santa - Dec. 21st
URL;VALUE=URI:https://www.wildernesslakecdd.org/calendar/5692113/breakfast-
 with-santa-dec-21st
DTSTART:20241221T150000Z
DTEND:20241221T170000Z
END:VEVENT
END:VCALENDAR
