BEGIN:VCALENDAR
VERSION:2.0
PRODID:SchoolNow
CALSCALE:GREGORIAN
BEGIN:VEVENT
UID:24e48246-f129-11ee-94f0-0a58a9feac02
DTSTAMP:20240402T194230Z
SUMMARY:Santa's Arrival - Dec. 7th
URL;VALUE=URI:https://www.wildernesslakecdd.org/calendar/5692112/santas-arr
 ival-dec-7th
DTSTART:20241207T210000Z
DTEND:20241207T230000Z
END:VEVENT
END:VCALENDAR
