BEGIN:VCALENDAR
VERSION:2.0
PRODID:SchoolNow
CALSCALE:GREGORIAN
BEGIN:VEVENT
UID:7aad3958-f128-11ee-8dda-0a58a9feac02
DTSTAMP:20241126T225838Z
SUMMARY:CDD Board Meeting - Dec. 2024
LOCATION:The Preserve at Wilderness Lake Lodge\, located at 21320 Wildernes
 s Lake Boulevard\, Land O' Lakes\, FL 34637
URL;VALUE=URI:https://www.wildernesslakecdd.org/calendar/5692111/cdd-board-
 meeting-dec-2024
DTSTART:20241204T143000Z
DTEND:20241204T183000Z
ATTACH;FILENAME=2024-12-04 Agenda Package.pdf;FMTTYPE=application/pdf:https
 ://campussuite-storage.s3.amazonaws.com/prod/1558874/21caec5e-ea98-11e9-85
 81-0a20d2c7fac4/2885100/97765f10-ac49-11ef-91db-0a58a9feac02/file/2024-12-
 04 Agenda Package.pdf
END:VEVENT
END:VCALENDAR
