BEGIN:VCALENDAR
VERSION:2.0
PRODID:SchoolNow
CALSCALE:GREGORIAN
BEGIN:VEVENT
UID:09e48988-f128-11ee-82d2-0a58a9feac02
DTSTAMP:20240402T193933Z
SUMMARY:Holiday Art/ Craft Fair - Nov. 16th
URL;VALUE=URI:https://www.wildernesslakecdd.org/calendar/5692110/holiday-ar
 t-craft-fair-nov-16th
DTSTART:20241116T150000Z
DTEND:20241116T200000Z
END:VEVENT
END:VCALENDAR
