BEGIN:VCALENDAR
VERSION:2.0
PRODID:SchoolNow
CALSCALE:GREGORIAN
BEGIN:VEVENT
UID:c5282e26-f127-11ee-b828-0a58a9feac02
DTSTAMP:20240402T193240Z
SUMMARY:Art Class - Nov. 9th
URL;VALUE=URI:https://www.wildernesslakecdd.org/calendar/5692108/art-class-
 nov-9th
DTSTART:20241109T170000Z
DTEND:20241109T200000Z
END:VEVENT
END:VCALENDAR
