BEGIN:VCALENDAR
VERSION:2.0
PRODID:SchoolNow
CALSCALE:GREGORIAN
BEGIN:VEVENT
UID:a74bca02-f127-11ee-9c43-0a58a9feac02
DTSTAMP:20241107T200903Z
SUMMARY:Sip N Paint - Nov. 8th
LOCATION:Activities Center
URL;VALUE=URI:https://www.wildernesslakecdd.org/calendar/5692106/sip-n-pain
 t-nov-8th
DTSTART:20241108T230000Z
DTEND:20241109T010000Z
END:VEVENT
END:VCALENDAR
