BEGIN:VCALENDAR
VERSION:2.0
PRODID:SchoolNow
CALSCALE:GREGORIAN
BEGIN:VEVENT
UID:8c2b3320-f127-11ee-9d59-0a58a9feac02
DTSTAMP:20241030T212642Z
SUMMARY:CDD Board Meeting - Nov. 2024
LOCATION:The Preserve at Wilderness Lake Lodge\, located at 21320 Wildernes
 s Lake Boulevard\, Land O' Lakes\, FL 34637
URL;VALUE=URI:https://www.wildernesslakecdd.org/calendar/5692104/cdd-board-
 meeting-nov-2024
DTSTART:20241106T233000Z
DTEND:20241107T020000Z
ATTACH;FILENAME=2024-11-06 Agenda Package.pdf;FMTTYPE=application/pdf:https
 ://campussuite-storage.s3.amazonaws.com/prod/1558874/21caec5e-ea98-11e9-85
 81-0a20d2c7fac4/2871536/5adb8d54-9705-11ef-8d00-027cf2c80efd/file/2024-11-
 06 Agenda Package.pdf
END:VEVENT
END:VCALENDAR
