BEGIN:VCALENDAR
VERSION:2.0
PRODID:SchoolNow
CALSCALE:GREGORIAN
BEGIN:VEVENT
UID:b000d896-f126-11ee-bee1-0efe2733b97d
DTSTAMP:20240925T213842Z
SUMMARY:CDD Board Meeting - Oct. 2024
LOCATION:The Preserve at Wilderness Lake Lodge\, located at 21320 Wildernes
 s Lake Boulevard\, Land O' Lakes\, FL 34637
URL;VALUE=URI:https://www.wildernesslakecdd.org/calendar/5692088/cdd-meetin
 g-oct-2nd
DTSTART:20241002T133000Z
DTEND:20241002T170000Z
ATTACH;FILENAME=2024-10-02 Agenda Package.pdf;FMTTYPE=application/pdf:https
 ://campussuite-storage.s3.amazonaws.com/prod/1558874/21caec5e-ea98-11e9-85
 81-0a20d2c7fac4/2853577/32c7acac-7b86-11ef-8f38-0e82f8d811c3/file/2024-10-
 02 Agenda Package.pdf
END:VEVENT
END:VCALENDAR
