BEGIN:VCALENDAR
VERSION:2.0
PRODID:SchoolNow
CALSCALE:GREGORIAN
BEGIN:VEVENT
UID:187f02f4-f126-11ee-93af-0eca164b46fd
DTSTAMP:20240727T184448Z
SUMMARY:Haunted House (Adult) - Oct. 26th
URL;VALUE=URI:https://www.wildernesslakecdd.org/calendar/5692087/haunted-ho
 use-adults-oct-26th
DTSTART:20241026T230000Z
DTEND:20241027T010000Z
END:VEVENT
END:VCALENDAR
