BEGIN:VCALENDAR
VERSION:2.0
PRODID:SchoolNow
CALSCALE:GREGORIAN
BEGIN:VEVENT
UID:ed1bbe36-f125-11ee-86da-0a58a9feac02
DTSTAMP:20240727T184420Z
SUMMARY:Haunted House (Kids) - Oct. 26th
URL;VALUE=URI:https://www.wildernesslakecdd.org/calendar/5692086/haunted-ho
 use-kids-oct-26th
DTSTART:20241026T210000Z
DTEND:20241026T223000Z
END:VEVENT
END:VCALENDAR
