BEGIN:VCALENDAR
VERSION:2.0
PRODID:SchoolNow
CALSCALE:GREGORIAN
BEGIN:VEVENT
UID:b51b85d4-f125-11ee-83c8-0a58a9feac02
DTSTAMP:20240727T184341Z
SUMMARY:Haunted House (Adult) - Oct. 25th
URL;VALUE=URI:https://www.wildernesslakecdd.org/calendar/5692084/haunted-ho
 use-oct-25th
DTSTART:20241025T230000Z
DTEND:20241026T010000Z
END:VEVENT
END:VCALENDAR
