BEGIN:VCALENDAR
VERSION:2.0
PRODID:SchoolNow
CALSCALE:GREGORIAN
BEGIN:VEVENT
UID:3dbfb0dc-f125-11ee-bba8-0a58a9feac02
DTSTAMP:20240402T191434Z
SUMMARY:Sip N Paint - Oct. 18th
URL;VALUE=URI:https://www.wildernesslakecdd.org/calendar/5692083/sip-n-pain
 t-oct-18th
DTSTART:20241018T220000Z
DTEND:20241019T003000Z
END:VEVENT
END:VCALENDAR
