BEGIN:VCALENDAR
VERSION:2.0
PRODID:SchoolNow
CALSCALE:GREGORIAN
BEGIN:VEVENT
UID:0df28eba-f125-11ee-a648-0a58a9feac02
DTSTAMP:20240729T214724Z
SUMMARY:Fall Festival & Oktoberfest - October 12th
URL;VALUE=URI:https://www.wildernesslakecdd.org/calendar/5692082/fall-festi
 val-oct-12th
DTSTART:20241012T190000Z
DTEND:20241012T220000Z
END:VEVENT
END:VCALENDAR
