BEGIN:VCALENDAR
VERSION:2.0
PRODID:SchoolNow
CALSCALE:GREGORIAN
BEGIN:VEVENT
UID:dead93fc-f124-11ee-84a4-0a58a9feac02
DTSTAMP:20240402T191155Z
SUMMARY:Art Class - Oct. 5th
URL;VALUE=URI:https://www.wildernesslakecdd.org/calendar/5692081/art-class-
 oct-5th
DTSTART:20241005T160000Z
DTEND:20241005T190000Z
END:VEVENT
END:VCALENDAR
