BEGIN:VCALENDAR
VERSION:2.0
PRODID:SchoolNow
CALSCALE:GREGORIAN
BEGIN:VEVENT
UID:4da8a6da-f124-11ee-8d41-0a58a9feac02
DTSTAMP:20240402T190751Z
SUMMARY:Sip N Paint - Sept. 20th
URL;VALUE=URI:https://www.wildernesslakecdd.org/calendar/5692079/sip-n-pain
 t-sept-20th
DTSTART:20240920T220000Z
DTEND:20240921T003000Z
END:VEVENT
END:VCALENDAR
