BEGIN:VCALENDAR
VERSION:2.0
PRODID:SchoolNow
CALSCALE:GREGORIAN
BEGIN:VEVENT
UID:1d42a50e-f124-11ee-81f5-025ee24b5243
DTSTAMP:20240403T005213Z
SUMMARY:Art Class - Sept. 14th
URL;VALUE=URI:https://www.wildernesslakecdd.org/calendar/5692078/art-class-
 sept-14th
DTSTART:20240914T220000Z
DTEND:20240915T010000Z
END:VEVENT
END:VCALENDAR
