BEGIN:VCALENDAR
VERSION:2.0
PRODID:SchoolNow
CALSCALE:GREGORIAN
BEGIN:VEVENT
UID:ef716a16-f123-11ee-a3ac-0a58a9feac02
DTSTAMP:20240710T201847Z
SUMMARY:Yappy Hour - Sept. 13th
URL;VALUE=URI:https://www.wildernesslakecdd.org/calendar/5692077/yappy-hour
 -sept-13th
DTSTART:20240913T220000Z
DTEND:20240914T000000Z
END:VEVENT
END:VCALENDAR
