BEGIN:VCALENDAR
VERSION:2.0
PRODID:SchoolNow
CALSCALE:GREGORIAN
BEGIN:VEVENT
UID:9fea1a2e-f123-11ee-a7e1-0a58a9feac02
DTSTAMP:20240710T181607Z
SUMMARY:Sip N Paint - Aug. 16th
LOCATION:Activities Center
URL;VALUE=URI:https://www.wildernesslakecdd.org/calendar/5692076/sip-n-pain
 t-aug-16th
DTSTART:20240816T220000Z
DTEND:20240817T003000Z
END:VEVENT
END:VCALENDAR
