BEGIN:VCALENDAR
VERSION:2.0
PRODID:SchoolNow
CALSCALE:GREGORIAN
BEGIN:VEVENT
UID:68004a34-f123-11ee-9f8b-0a58a9feac02
DTSTAMP:20240811T211240Z
SUMMARY:School Begins - Tears & Cheers Breakfast - August 12th
LOCATION:Activities Center
URL;VALUE=URI:https://www.wildernesslakecdd.org/calendar/5692075/school-beg
 ins-boo-hoo-breakfast
DTSTART:20240812T133000Z
DTEND:20240812T153000Z
END:VEVENT
END:VCALENDAR
