BEGIN:VCALENDAR
VERSION:2.0
PRODID:SchoolNow
CALSCALE:GREGORIAN
BEGIN:VEVENT
UID:26c91b2c-f123-11ee-943f-0a58a9feac02
DTSTAMP:20240710T201919Z
SUMMARY:Back to School BBQ & Pool Party - August 10th
LOCATION:Poolside
URL;VALUE=URI:https://www.wildernesslakecdd.org/calendar/5692074/back-to-sc
 hool-bbq-aug-10th
DTSTART:20240810T160000Z
DTEND:20240810T180000Z
END:VEVENT
END:VCALENDAR
