BEGIN:VCALENDAR
VERSION:2.0
PRODID:SchoolNow
CALSCALE:GREGORIAN
BEGIN:VEVENT
UID:2abcde72-f122-11ee-8daa-0e9fa0da9cd5
DTSTAMP:20240710T174708Z
SUMMARY:Art Class - July 13th
LOCATION:Activities Center
URL;VALUE=URI:https://www.wildernesslakecdd.org/calendar/5692073/art-class-
 july-13th
DTSTART:20240713T180000Z
DTEND:20240713T210000Z
END:VEVENT
END:VCALENDAR
