BEGIN:VCALENDAR
VERSION:2.0
PRODID:SchoolNow
CALSCALE:GREGORIAN
BEGIN:VEVENT
UID:170a66ac-f121-11ee-bffb-0a58a9feac02
DTSTAMP:20240607T233141Z
SUMMARY:Fishing Derby BBQ - Jun. 14th
URL;VALUE=URI:https://www.wildernesslakecdd.org/calendar/5692065/fishing-de
 rby-bbq-june-14th
DTSTART:20240614T230000Z
DTEND:20240615T000000Z
ATTACH;FILENAME=Father's Day Fishing Derby.jpg;FMTTYPE=image/jpeg:https://c
 ampussuite-storage.s3.amazonaws.com/prod/1558874/21caec5e-ea98-11e9-8581-0
 a20d2c7fac4/2803486/030cd3fe-2526-11ef-bbed-0afff939318b/file/Father's Day
  Fishing Derby.jpg
END:VEVENT
END:VCALENDAR
