BEGIN:VCALENDAR
VERSION:2.0
PRODID:SchoolNow
CALSCALE:GREGORIAN
BEGIN:VEVENT
UID:848b986a-f11f-11ee-9725-0a58a9feac02
DTSTAMP:20240402T183336Z
SUMMARY:Teen Movie Night - Apr. 27th
URL;VALUE=URI:https://www.wildernesslakecdd.org/calendar/5690781/teen-movie
 -night-apr-27th
DTSTART:20240427T230000Z
DTEND:20240428T003000Z
END:VEVENT
END:VCALENDAR
