BEGIN:VCALENDAR
VERSION:2.0
PRODID:SchoolNow
CALSCALE:GREGORIAN
BEGIN:VEVENT
UID:82d42894-f11e-11ee-ae5b-02b68be6dfd3
DTSTAMP:20240402T183048Z
SUMMARY:Hoops and Scoops - Apr. 14th
URL;VALUE=URI:https://www.wildernesslakecdd.org/calendar/5690713/hoops-and-
 scoops-april-14th
DTSTART:20240414T180000Z
DTEND:20240414T190000Z
END:VEVENT
END:VCALENDAR
