BEGIN:VCALENDAR
VERSION:2.0
PRODID:SchoolNow
CALSCALE:GREGORIAN
BEGIN:VEVENT
UID:889a8542-de50-11ee-903c-0a58a9feac02
DTSTAMP:20240309T202048Z
SUMMARY:Art Class - Apr. 6th
LOCATION:Activity Center
URL;VALUE=URI:https://www.wildernesslakecdd.org/calendar/5504924/art-class
DTSTART:20240406T160000Z
DTEND:20240406T190000Z
END:VEVENT
END:VCALENDAR
