BEGIN:VCALENDAR
VERSION:2.0
PRODID:SchoolNow
CALSCALE:GREGORIAN
BEGIN:VEVENT
UID:be804cd4-de4e-11ee-80b5-0e66204b385b
DTSTAMP:20240314T160204Z
SUMMARY:Family Movie Night - Apr. 26th
LOCATION:Theatre
URL;VALUE=URI:https://www.wildernesslakecdd.org/calendar/5504922/family-mov
 ie-night
DTSTART:20240426T230000Z
DTEND:20240427T004500Z
END:VEVENT
END:VCALENDAR
