BEGIN:VCALENDAR
VERSION:2.0
PRODID:SchoolNow
CALSCALE:GREGORIAN
BEGIN:VEVENT
UID:440f3cda-de4e-11ee-936e-0e66204b385b
DTSTAMP:20240314T155751Z
SUMMARY:Taco Dinner - Apr. 12th
LOCATION:Activity Center
URL;VALUE=URI:https://www.wildernesslakecdd.org/calendar/5504921/taco-dinne
 r
DTSTART:20240412T220000Z
DTEND:20240413T000000Z
END:VEVENT
END:VCALENDAR
