BEGIN:VCALENDAR
VERSION:2.0
PRODID:SchoolNow
CALSCALE:GREGORIAN
BEGIN:VEVENT
UID:4e4556d6-de4d-11ee-81a4-02697d16f53b
DTSTAMP:20240314T160139Z
SUMMARY:HOA Meeting - Apr. 23rd
LOCATION:Activity Center
URL;VALUE=URI:https://www.wildernesslakecdd.org/calendar/5504920/hoa-meetin
 g
DTSTART:20240423T223000Z
DTEND:20240423T233000Z
END:VEVENT
END:VCALENDAR
