BEGIN:VCALENDAR
VERSION:2.0
PRODID:SchoolNow
CALSCALE:GREGORIAN
BEGIN:VEVENT
UID:442deaa6-de4c-11ee-8b92-0e66204b385b
DTSTAMP:20240314T160107Z
SUMMARY:ARC Meeting - Apr. 22nd
LOCATION:Activity Center
URL;VALUE=URI:https://www.wildernesslakecdd.org/calendar/5504919/arc-meetin
 g
DTSTART:20240422T223000Z
DTEND:20240422T233000Z
END:VEVENT
END:VCALENDAR
