BEGIN:VCALENDAR
VERSION:2.0
PRODID:SchoolNow
CALSCALE:GREGORIAN
BEGIN:VEVENT
UID:e162d2d8-de4b-11ee-8fe9-0a58a9feac02
DTSTAMP:20240314T160005Z
SUMMARY:Snow Cones at the Pool - Apr. 21st
URL;VALUE=URI:https://www.wildernesslakecdd.org/calendar/5504918/snow-cones
 -at-the-pool
DTSTART:20240421T180000Z
DTEND:20240421T190000Z
END:VEVENT
END:VCALENDAR
