BEGIN:VCALENDAR
VERSION:2.0
PRODID:SchoolNow
CALSCALE:GREGORIAN
BEGIN:VEVENT
UID:9ba6b304-de4b-11ee-8def-0a58a9feac02
DTSTAMP:20240402T183401Z
SUMMARY:Story Time - Apr. 29th
LOCATION:Nature Center
URL;VALUE=URI:https://www.wildernesslakecdd.org/calendar/5504917/story-time
DTSTART:20240429T140000Z
DTEND:20240429T150000Z
END:VEVENT
END:VCALENDAR
