BEGIN:VCALENDAR
VERSION:2.0
PRODID:SchoolNow
CALSCALE:GREGORIAN
BEGIN:VEVENT
UID:7ac05668-de4b-11ee-a2a4-0a58a9feac02
DTSTAMP:20240314T160029Z
SUMMARY:Story Time - Apr. 22nd
URL;VALUE=URI:https://www.wildernesslakecdd.org/calendar/5504916/story-time
DTSTART:20240422T140000Z
DTEND:20240422T150000Z
END:VEVENT
END:VCALENDAR
