BEGIN:VCALENDAR
VERSION:2.0
PRODID:SchoolNow
CALSCALE:GREGORIAN
BEGIN:VEVENT
UID:536ba87e-de4b-11ee-b527-0e66204b385b
DTSTAMP:20240314T155823Z
SUMMARY:Story Time - Apr. 15th
URL;VALUE=URI:https://www.wildernesslakecdd.org/calendar/5504915/story-time
DTSTART:20240415T140000Z
DTEND:20240415T150000Z
END:VEVENT
END:VCALENDAR
