BEGIN:VCALENDAR
VERSION:2.0
PRODID:SchoolNow
CALSCALE:GREGORIAN
BEGIN:VEVENT
UID:2a85f78e-de4b-11ee-a5a8-0a58a9feac02
DTSTAMP:20240309T202200Z
SUMMARY:Story Time - Apr. 8th
LOCATION:Nature Center
URL;VALUE=URI:https://www.wildernesslakecdd.org/calendar/5504914/story-time
DTSTART:20240408T140000Z
DTEND:20240408T150000Z
END:VEVENT
END:VCALENDAR
