BEGIN:VCALENDAR
VERSION:2.0
PRODID:SchoolNow
CALSCALE:GREGORIAN
BEGIN:VEVENT
UID:eb6c8dce-de4a-11ee-b718-0e66204b385b
DTSTAMP:20240309T201955Z
SUMMARY:Story Time - Apr. 1st
LOCATION:Nature Center
URL;VALUE=URI:https://www.wildernesslakecdd.org/calendar/5504913/story-time
DTSTART:20240401T140000Z
DTEND:20240401T150000Z
END:VEVENT
END:VCALENDAR
