BEGIN:VCALENDAR
VERSION:2.0
PRODID:SchoolNow
CALSCALE:GREGORIAN
BEGIN:VEVENT
UID:83bf43a6-de4a-11ee-9b9e-0a58a9feac02
DTSTAMP:20240314T155720Z
SUMMARY:ARC Meeting - Apr. 8th
LOCATION:Activity Center
URL;VALUE=URI:https://www.wildernesslakecdd.org/calendar/5504911/arc-meetin
 g
DTSTART:20240408T223000Z
DTEND:20240408T233000Z
END:VEVENT
END:VCALENDAR
