BEGIN:VCALENDAR
VERSION:2.0
PRODID:SchoolNow
CALSCALE:GREGORIAN
BEGIN:VEVENT
UID:08e73418-de4a-11ee-91d7-0e66204b385b
DTSTAMP:20240309T201657Z
SUMMARY:HOA Meeting - Mar. 26th
LOCATION:Activity Center
URL;VALUE=URI:https://www.wildernesslakecdd.org/calendar/5504910/hoa-meetin
 g
DTSTART:20240326T223000Z
DTEND:20240326T233000Z
END:VEVENT
END:VCALENDAR
