BEGIN:VCALENDAR
VERSION:2.0
PRODID:SchoolNow
CALSCALE:GREGORIAN
BEGIN:VEVENT
UID:082914f8-de43-11ee-a518-0e66204b385b
DTSTAMP:20240309T201552Z
SUMMARY:ARC Meeting - Mar. 25th
URL;VALUE=URI:https://www.wildernesslakecdd.org/calendar/5504907/arc-meetin
 g
DTSTART:20240325T223000Z
DTEND:20240325T233000Z
END:VEVENT
END:VCALENDAR
