BEGIN:VCALENDAR
VERSION:2.0
PRODID:SchoolNow
CALSCALE:GREGORIAN
BEGIN:VEVENT
UID:999bb212-de3c-11ee-8072-0a58a9feac02
DTSTAMP:20240309T201618Z
SUMMARY:ARC Meeting - Mar. 11th
LOCATION:Activities Center
URL;VALUE=URI:https://www.wildernesslakecdd.org/calendar/5504115/arc-meetin
 g
DTSTART:20240311T223000Z
DTEND:20240311T233000Z
END:VEVENT
END:VCALENDAR
