BEGIN:VCALENDAR
VERSION:2.0
PRODID:SchoolNow
CALSCALE:GREGORIAN
BEGIN:VEVENT
UID:45bace04-d30f-11ee-abc2-0a58a9feac02
DTSTAMP:20240309T201916Z
SUMMARY:Tie Dye Day - Mar. 29th
URL;VALUE=URI:https://www.wildernesslakecdd.org/calendar/5394520/tie-dye-da
 y
DTSTART:20240329T170000Z
DTEND:20240329T180000Z
END:VEVENT
END:VCALENDAR
