BEGIN:VCALENDAR
VERSION:2.0
PRODID:SchoolNow
CALSCALE:GREGORIAN
BEGIN:VEVENT
UID:35772560-d30f-11ee-aa60-0a58a9feac02
DTSTAMP:20240309T201819Z
SUMMARY:Plant a Pizza Garden - Mar. 28th
URL;VALUE=URI:https://www.wildernesslakecdd.org/calendar/5394519/plant-a-pi
 zza-garden
DTSTART:20240328T160000Z
DTEND:20240328T170000Z
END:VEVENT
END:VCALENDAR
