BEGIN:VCALENDAR
VERSION:2.0
PRODID:SchoolNow
CALSCALE:GREGORIAN
BEGIN:VEVENT
UID:1c8f6fda-d30f-11ee-8466-0a58a9feac02
DTSTAMP:20240224T122035Z
SUMMARY:S’mores Under the Stars - Mar. 27th
URL;VALUE=URI:https://www.wildernesslakecdd.org/calendar/5394518/s-mores-un
 der-the-stars-mar-27th
DTSTART:20240327T230000Z
DTEND:20240328T000000Z
END:VEVENT
END:VCALENDAR
