BEGIN:VCALENDAR
VERSION:2.0
PRODID:SchoolNow
CALSCALE:GREGORIAN
BEGIN:VEVENT
UID:00dababa-d30f-11ee-b351-0a58a9feac02
DTSTAMP:20240309T201732Z
SUMMARY:Taco Tuesday - Mar. 26th
URL;VALUE=URI:https://www.wildernesslakecdd.org/calendar/5394517/taco-tuesd
 ay
DTSTART:20240326T160000Z
DTEND:20240326T170000Z
END:VEVENT
END:VCALENDAR
