BEGIN:VCALENDAR
VERSION:2.0
PRODID:SchoolNow
CALSCALE:GREGORIAN
BEGIN:VEVENT
UID:e71d7f36-d30e-11ee-955e-0a58a9feac02
DTSTAMP:20240309T201851Z
SUMMARY:Sand Art Projects - Mar. 25th
URL;VALUE=URI:https://www.wildernesslakecdd.org/calendar/5394516/sand-art-p
 rojects
DTSTART:20240325T170000Z
DTEND:20240325T180000Z
END:VEVENT
END:VCALENDAR
