BEGIN:VCALENDAR
VERSION:2.0
PRODID:SchoolNow
CALSCALE:GREGORIAN
BEGIN:VEVENT
UID:c1543290-d30e-11ee-b313-0a58a9feac02
DTSTAMP:20240224T122012Z
SUMMARY:S’mores Under the Stars - Mar. 8th
URL;VALUE=URI:https://www.wildernesslakecdd.org/calendar/5394515/s-mores-un
 der-the-stars-mar-8th
DTSTART:20240309T000000Z
DTEND:20240309T010000Z
END:VEVENT
END:VCALENDAR
